BEGIN:VCALENDAR
VERSION:2.0
PRODID:-//Plone.org//NONSGML plone.app.event//EN
X-WR-TIMEZONE:Europe/Rome
BEGIN:VEVENT
SUMMARY:Trekking Urbano 2018. Cibo per la mente
DTSTART;TZID=Europe/Rome;VALUE=DATE-TIME:20181031T143000
DTEND;TZID=Europe/Rome;VALUE=DATE-TIME:20181031T173000
DTSTAMP;VALUE=DATE-TIME:20260419T182251Z
UID:75aab15a354c4b79aedb3631373dc592@edu.unibo.it
CREATED;VALUE=DATE-TIME:20181030T110914Z
DESCRIPTION:Percorso esplorativo fra le biblioteche specializzate di Bolog
 na
LAST-MODIFIED;VALUE=DATE-TIME:20181030T111058Z
URL:https://edu.unibo.it/it/eventi/trekking-urbano-2018.-cibo-per-la-mente
END:VEVENT
BEGIN:VTIMEZONE
TZID:Europe/Rome
X-LIC-LOCATION:Europe/Rome
BEGIN:STANDARD
DTSTART;VALUE=DATE-TIME:20181028T020000
TZNAME:CET
TZOFFSETFROM:+0200
TZOFFSETTO:+0100
END:STANDARD
END:VTIMEZONE
END:VCALENDAR
