BEGIN:VCALENDAR
VERSION:2.0
PRODID:-//Plone.org//NONSGML plone.app.event//EN
X-WR-TIMEZONE:Europe/Rome
BEGIN:VEVENT
SUMMARY:The phenomenon of Hikikomori
DTSTART;TZID=Europe/Rome;VALUE=DATE-TIME:20220929T153000
DTEND;TZID=Europe/Rome;VALUE=DATE-TIME:20220929T170000
DTSTAMP;VALUE=DATE-TIME:20260420T171034Z
UID:2b5e88e7090b42909c98f4b699f5b636@edu.unibo.it
CREATED;VALUE=DATE-TIME:20220926T090259Z
DESCRIPTION:Una chiacchierata nel verde presso la Piccola Biblioteca Spont
 anea
LAST-MODIFIED;VALUE=DATE-TIME:20220927T064916Z
URL:https://edu.unibo.it/it/eventi/the-phenomenon-of-hikikomori
END:VEVENT
BEGIN:VTIMEZONE
TZID:Europe/Rome
X-LIC-LOCATION:Europe/Rome
BEGIN:DAYLIGHT
DTSTART;VALUE=DATE-TIME:20220327T030000
TZNAME:CEST
TZOFFSETFROM:+0100
TZOFFSETTO:+0200
END:DAYLIGHT
END:VTIMEZONE
END:VCALENDAR
