BEGIN:VCALENDAR
VERSION:2.0
PRODID:-//Plone.org//NONSGML plone.app.event//EN
X-WR-TIMEZONE:Europe/Rome
BEGIN:VEVENT
SUMMARY:Specialmente in libertà
DTSTART;VALUE=DATE:20201012
DTEND;VALUE=DATE:20210101
DTSTAMP;VALUE=DATE-TIME:20260425T023546Z
UID:71b19f8a03574aabb85d1e6a983331db@edu.unibo.it
CREATED;VALUE=DATE-TIME:20201016T103416Z
DESCRIPTION:Progetto fotografico a cura di Specialmente in Biblioteca\, Re
 te delle biblioteche specializzate di Bologna
LAST-MODIFIED;VALUE=DATE-TIME:20201102T083028Z
URL:https://edu.unibo.it/it/eventi/specialmente-i
END:VEVENT
END:VCALENDAR
