BEGIN:VCALENDAR
VERSION:2.0
PRODID:-//Plone.org//NONSGML plone.app.event//EN
X-WR-TIMEZONE:Europe/Rome
BEGIN:VEVENT
SUMMARY:[Seminario] - Childcare: In/Equalities in Focus
DTSTART;TZID=Europe/Rome;VALUE=DATE-TIME:20161019T103000
DTEND;TZID=Europe/Rome;VALUE=DATE-TIME:20161019T123000
DTSTAMP;VALUE=DATE-TIME:20260426T010139Z
UID:676c6a5486cf45d5bb7816f30b98b244@edu.unibo.it
CREATED;VALUE=DATE-TIME:20161010T095325Z
DESCRIPTION:Relatrice: Prof.ssa Kirsti Karila (Università di Tampere) \n\
 n
LAST-MODIFIED;VALUE=DATE-TIME:20161010T100105Z
URL:https://edu.unibo.it/it/eventi/seminario-childcare-in-equalities-in-fo
 cus
END:VEVENT
BEGIN:VTIMEZONE
TZID:Europe/Rome
X-LIC-LOCATION:Europe/Rome
BEGIN:DAYLIGHT
DTSTART;VALUE=DATE-TIME:20160327T030000
TZNAME:CEST
TZOFFSETFROM:+0100
TZOFFSETTO:+0200
END:DAYLIGHT
END:VTIMEZONE
END:VCALENDAR
