BEGIN:VCALENDAR
VERSION:2.0
PRODID:-//Plone.org//NONSGML plone.app.event//EN
X-WR-TIMEZONE:Europe/Rome
BEGIN:VEVENT
SUMMARY:Seduti accanto a Zaky
DTSTART;VALUE=DATE:20201021
DTEND;VALUE=DATE:20210101
DTSTAMP;VALUE=DATE-TIME:20260425T161744Z
UID:ea687ea5dc0c4ebbb188c51faf0bc789@edu.unibo.it
CREATED;VALUE=DATE-TIME:20201027T093432Z
DESCRIPTION:La Biblioteca di Scienze dell'Educazione ospita le sagome real
 izzate dall'artista Gianluca Costantini
LAST-MODIFIED;VALUE=DATE-TIME:20201027T131631Z
URL:https://edu.unibo.it/it/eventi/seduti-accanto-a-zaky
END:VEVENT
END:VCALENDAR
