BEGIN:VCALENDAR
VERSION:2.0
PRODID:-//Plone.org//NONSGML plone.app.event//EN
X-WR-TIMEZONE:Europe/Rome
BEGIN:VEVENT
SUMMARY:PER NON PERDERE LA STRADA… Riflessioni su percorsi e pratiche di
  prevenzione e contrasto alla dispersione scolastica e formativa
DTSTART;TZID=Europe/Rome;VALUE=DATE-TIME:20160310T090000
DTEND;TZID=Europe/Rome;VALUE=DATE-TIME:20160310T123000
DTSTAMP;VALUE=DATE-TIME:20260426T030541Z
UID:e2b7a1daf8d74d8381d71b3ee53fd830@edu.unibo.it
CREATED;VALUE=DATE-TIME:20160303T094843Z
DESCRIPTION:Seminario
LAST-MODIFIED;VALUE=DATE-TIME:20160303T095345Z
URL:https://edu.unibo.it/it/eventi/per-non-perdere-la-strada...-riflession
 i-su-percorsi-e-pratiche-di-prevenzione-e-contrasto-alla-dispersione-scola
 stica-e-formativa
END:VEVENT
BEGIN:VTIMEZONE
TZID:Europe/Rome
X-LIC-LOCATION:Europe/Rome
BEGIN:STANDARD
DTSTART;VALUE=DATE-TIME:20151025T020000
TZNAME:CET
TZOFFSETFROM:+0200
TZOFFSETTO:+0100
END:STANDARD
END:VTIMEZONE
END:VCALENDAR
