BEGIN:VCALENDAR
VERSION:2.0
PRODID:-//Plone.org//NONSGML plone.app.event//EN
X-WR-TIMEZONE:Europe/Rome
BEGIN:VEVENT
SUMMARY:Maria Montessori tra passato e presente - La diffusione della sua 
 pedagogia in Italia e all'estero
DTSTART;VALUE=DATE:20220114
DTEND;VALUE=DATE:20220401
DTSTAMP;VALUE=DATE-TIME:20260426T050119Z
UID:3f133b6d0a0943e888ee427fb1a35386@edu.unibo.it
CREATED;VALUE=DATE-TIME:20211129T103839Z
DESCRIPTION:Convegno organizzato in collaborazione con il Dipartimento di 
 Scienze dell'Educazione rivolto a studenti\, ricercatori ed insegnanti.
LAST-MODIFIED;VALUE=DATE-TIME:20220114T132034Z
URL:https://edu.unibo.it/it/eventi/maria-montessori-tra-passato-e-presente
 -la-diffusione-della-sua-pedagogia-in-italia-e-all-estero
END:VEVENT
END:VCALENDAR
