BEGIN:VCALENDAR
VERSION:2.0
PRODID:-//Plone.org//NONSGML plone.app.event//EN
X-WR-TIMEZONE:Europe/Rome
BEGIN:VEVENT
SUMMARY:Liberi di scegliere e decidere
DTSTART;TZID=Europe/Rome;VALUE=DATE-TIME:20191018T090000
DTEND;TZID=Europe/Rome;VALUE=DATE-TIME:20191018T205500
DTSTAMP;VALUE=DATE-TIME:20260425T210507Z
UID:8d3858570e6c4575a5c8bc1e5bc25ee0@edu.unibo.it
CREATED;VALUE=DATE-TIME:20191003T091958Z
DESCRIPTION:Convegno in collaborazione con il Dipartimento di Scienze dell
 'Educazione
LAST-MODIFIED;VALUE=DATE-TIME:20191010T135244Z
URL:https://edu.unibo.it/it/eventi/liberi-di-scegliere-e-decidere
END:VEVENT
BEGIN:VTIMEZONE
TZID:Europe/Rome
X-LIC-LOCATION:Europe/Rome
BEGIN:DAYLIGHT
DTSTART;VALUE=DATE-TIME:20190331T030000
TZNAME:CEST
TZOFFSETFROM:+0100
TZOFFSETTO:+0200
END:DAYLIGHT
END:VTIMEZONE
END:VCALENDAR
