BEGIN:VCALENDAR
VERSION:2.0
PRODID:-//Plone.org//NONSGML plone.app.event//EN
X-WR-TIMEZONE:Europe/Rome
BEGIN:VEVENT
SUMMARY:Le parole che raccontano
DTSTART;TZID=Europe/Rome;VALUE=DATE-TIME:20210222T153000
DTEND;TZID=Europe/Rome;VALUE=DATE-TIME:20210222T183000
DTSTAMP;VALUE=DATE-TIME:20260420T173532Z
UID:c787481b18eb40e8b2ad6fd8260bd4ed@edu.unibo.it
CREATED;VALUE=DATE-TIME:20210216T171226Z
DESCRIPTION:Seminario nazionale di formazione
LAST-MODIFIED;VALUE=DATE-TIME:20210222T145414Z
URL:https://edu.unibo.it/it/eventi/le-parole-che-raccontano
END:VEVENT
BEGIN:VTIMEZONE
TZID:Europe/Rome
X-LIC-LOCATION:Europe/Rome
BEGIN:STANDARD
DTSTART;VALUE=DATE-TIME:20201025T020000
TZNAME:CET
TZOFFSETFROM:+0200
TZOFFSETTO:+0100
END:STANDARD
END:VTIMEZONE
END:VCALENDAR
