BEGIN:VCALENDAR
VERSION:2.0
PRODID:-//Plone.org//NONSGML plone.app.event//EN
X-WR-TIMEZONE:Europe/Rome
BEGIN:VEVENT
SUMMARY:[Incontro] - "I tesori nelle isole non trovate"
DTSTART;TZID=Europe/Rome;VALUE=DATE-TIME:20181213T170000
DTEND;TZID=Europe/Rome;VALUE=DATE-TIME:20181213T190000
DTSTAMP;VALUE=DATE-TIME:20260425T215150Z
UID:5e88c5ca1f3644338cfacb1e15afa1e8@edu.unibo.it
CREATED;VALUE=DATE-TIME:20181204T074217Z
LAST-MODIFIED;VALUE=DATE-TIME:20181204T074303Z
URL:https://edu.unibo.it/it/eventi/incontro-i-tesori-nelle-isole-non-trova
 te
END:VEVENT
BEGIN:VTIMEZONE
TZID:Europe/Rome
X-LIC-LOCATION:Europe/Rome
BEGIN:STANDARD
DTSTART;VALUE=DATE-TIME:20181028T020000
TZNAME:CET
TZOFFSETFROM:+0200
TZOFFSETTO:+0100
END:STANDARD
END:VTIMEZONE
END:VCALENDAR
