BEGIN:VCALENDAR
VERSION:2.0
PRODID:-//Plone.org//NONSGML plone.app.event//EN
X-WR-TIMEZONE:Europe/Rome
BEGIN:VEVENT
SUMMARY:[Incontro e dibattito] - "Giovani e devianza. Ieri e oggi"
DTSTART;VALUE=DATE:20161114
DTEND;VALUE=DATE:20161115
DTSTAMP;VALUE=DATE-TIME:20260425T234842Z
UID:da73a7c349a14a73a39284685308c960@edu.unibo.it
CREATED;VALUE=DATE-TIME:20161108T130131Z
LAST-MODIFIED;VALUE=DATE-TIME:20161108T130326Z
URL:https://edu.unibo.it/it/eventi/incontro-e-dibattito-giovani-e-devianza
 .-ieri-e-oggi
END:VEVENT
END:VCALENDAR
