BEGIN:VCALENDAR
VERSION:2.0
PRODID:-//Plone.org//NONSGML plone.app.event//EN
X-WR-TIMEZONE:Europe/Rome
BEGIN:VEVENT
SUMMARY:[Giornata di studi internazionale] - Dialogare sull’Alternanza S
 cuola-Lavoro: musei\, archivi\, biblioteche e imprese
DTSTART;TZID=Europe/Rome;VALUE=DATE-TIME:20171218T093000
DTEND;TZID=Europe/Rome;VALUE=DATE-TIME:20171218T140000
DTSTAMP;VALUE=DATE-TIME:20260423T033123Z
UID:4842a544038741028de6200363619d59@edu.unibo.it
CREATED;VALUE=DATE-TIME:20171205T085622Z
DESCRIPTION:A due anni dalla Legge 107/2015 che ha reso obbligatorio per t
 utte le classi dell’ultimo triennio della scuola secondaria di secondo g
 rado lo svolgimento di un percorso formativo in Alternanza Scuola-Lavoro\,
  oltre che nei contesti di impresa\, anche nei musei\, archivi e bibliotec
 he\, il Centro di Ricerca e Didattica nei Contesti museali e il MOdE-Museo
  Officina dell’Educazione del Dipartimento di Scienze dell’Educazione 
 dell’Università di Bologna\, propongono un dialogo con chi è coinvolto
  nella realizzazione di progetti di alternanza per evidenziare e valorizza
 re gli aspetti di positività e creare uno spazio di confronto sugli eleme
 nti di criticità.
LAST-MODIFIED;VALUE=DATE-TIME:20171205T085703Z
URL:https://edu.unibo.it/it/eventi/giornata-di-studi-internazionale-dialog
 are-sull2019alternanza-scuola-lavoro-musei-archivi-biblioteche-e-imprese
END:VEVENT
BEGIN:VTIMEZONE
TZID:Europe/Rome
X-LIC-LOCATION:Europe/Rome
BEGIN:STANDARD
DTSTART;VALUE=DATE-TIME:20171029T020000
TZNAME:CET
TZOFFSETFROM:+0200
TZOFFSETTO:+0100
END:STANDARD
END:VTIMEZONE
END:VCALENDAR
