BEGIN:VCALENDAR
VERSION:2.0
PRODID:-//Plone.org//NONSGML plone.app.event//EN
X-WR-TIMEZONE:Europe/Rome
BEGIN:VEVENT
SUMMARY:[Giornata di formazione] - "Ragionando sull'inclusione scolastica 
 di bambini/e e adolescenti rom"
DTSTART;TZID=Europe/Rome;VALUE=DATE-TIME:20180907T093000
DTEND;TZID=Europe/Rome;VALUE=DATE-TIME:20180907T163000
DTSTAMP;VALUE=DATE-TIME:20260419T141841Z
UID:a3dff3bef5e547f192d95c1307f1d31a@edu.unibo.it
CREATED;VALUE=DATE-TIME:20180906T102442Z
LAST-MODIFIED;VALUE=DATE-TIME:20180906T103801Z
URL:https://edu.unibo.it/it/eventi/giornata-di-formazione-ragionando-sulli
 nclusione-scolastica-di-bambini-e-e-adolescenti-rom
END:VEVENT
BEGIN:VTIMEZONE
TZID:Europe/Rome
X-LIC-LOCATION:Europe/Rome
BEGIN:DAYLIGHT
DTSTART;VALUE=DATE-TIME:20180325T030000
TZNAME:CEST
TZOFFSETFROM:+0100
TZOFFSETTO:+0200
END:DAYLIGHT
END:VTIMEZONE
END:VCALENDAR
