BEGIN:VCALENDAR
VERSION:2.0
PRODID:-//Plone.org//NONSGML plone.app.event//EN
X-WR-TIMEZONE:Europe/Rome
BEGIN:VEVENT
SUMMARY:Festival delle Biblioteche specializzate di Bologna: "Nel corpo de
 ll'indicibile. Cosa resta della grande guerra."
DTSTART;VALUE=DATE:20161109
DTEND;VALUE=DATE:20161114
DTSTAMP;VALUE=DATE-TIME:20260426T013228Z
UID:5eb765f13d944e4d87bd3a33bc0f9b13@edu.unibo.it
CREATED;VALUE=DATE-TIME:20161028T060624Z
DESCRIPTION:Organizzazione a cura del Coordinamento Specialmente in Biblio
 teca\, con il prezioso contributo della Biblioteca "Mario Gattullo" del Di
 partimento di Scienze dell'Educazione "Giovanni Maria Bertin" e della Bibl
 ioteca "Silvana Contento" del Dipartimento di Psicologia.
LAST-MODIFIED;VALUE=DATE-TIME:20161109T080330Z
URL:https://edu.unibo.it/it/eventi/festival-delle-biblioteche-specializzat
 e-di-bologna
END:VEVENT
END:VCALENDAR
