BEGIN:VCALENDAR
VERSION:2.0
PRODID:-//Plone.org//NONSGML plone.app.event//EN
X-WR-TIMEZONE:Europe/Rome
BEGIN:VEVENT
SUMMARY:[Eventi musicali] - "La via Zamboni"
DTSTART;VALUE=DATE:20161113
DTEND;VALUE=DATE:20161114
DTSTAMP;VALUE=DATE-TIME:20260426T011235Z
UID:589075ca379648daafa4a036becb4337@edu.unibo.it
CREATED;VALUE=DATE-TIME:20161109T082143Z
LAST-MODIFIED;VALUE=DATE-TIME:20161109T082152Z
URL:https://edu.unibo.it/it/eventi/eventi-musicali-la-via-zamboni
END:VEVENT
END:VCALENDAR
