BEGIN:VCALENDAR
VERSION:2.0
PRODID:-//Plone.org//NONSGML plone.app.event//EN
X-WR-TIMEZONE:Europe/Rome
BEGIN:VEVENT
SUMMARY:Draw your future project
DTSTART;VALUE=DATE:20200124
DTEND;VALUE=DATE:20200205
DTSTAMP;VALUE=DATE-TIME:20260425T023422Z
UID:ceeb3f99b7864bfdb03ef7882362fa8b@edu.unibo.it
CREATED;VALUE=DATE-TIME:20200114T142319Z
LAST-MODIFIED;VALUE=DATE-TIME:20200121T144125Z
URL:https://edu.unibo.it/it/eventi/draw-your-future-project
END:VEVENT
END:VCALENDAR
