BEGIN:VCALENDAR
VERSION:2.0
PRODID:-//Plone.org//NONSGML plone.app.event//EN
X-WR-TIMEZONE:Europe/Rome
BEGIN:VEVENT
SUMMARY:[Convegno] - Come parlare con bambini e adolescenti di terrorismo\
 , violenza\, pregiudizi
DTSTART;TZID=Europe/Rome;VALUE=DATE-TIME:20161020T090000
DTEND;TZID=Europe/Rome;VALUE=DATE-TIME:20161020T133000
DTSTAMP;VALUE=DATE-TIME:20260426T043525Z
UID:0f663539a63d4c4ba1897f1a4f36dbfa@edu.unibo.it
CREATED;VALUE=DATE-TIME:20161013T064501Z
LAST-MODIFIED;VALUE=DATE-TIME:20161017T052247Z
URL:https://edu.unibo.it/it/eventi/convegno
END:VEVENT
BEGIN:VTIMEZONE
TZID:Europe/Rome
X-LIC-LOCATION:Europe/Rome
BEGIN:DAYLIGHT
DTSTART;VALUE=DATE-TIME:20160327T030000
TZNAME:CEST
TZOFFSETFROM:+0100
TZOFFSETTO:+0200
END:DAYLIGHT
END:VTIMEZONE
END:VCALENDAR
