BEGIN:VCALENDAR
VERSION:2.0
PRODID:-//Plone.org//NONSGML plone.app.event//EN
X-WR-TIMEZONE:Europe/Rome
BEGIN:VEVENT
SUMMARY:CHILDREN’S RIGHTS EUROPEAN ACADEMIC NETWORK
DTSTART;TZID=Europe/Rome;VALUE=DATE-TIME:20240416T090000
DTEND;TZID=Europe/Rome;VALUE=DATE-TIME:20240416T183000
DTSTAMP;VALUE=DATE-TIME:20260420T210942Z
UID:a4df42713a9c46379385982d42379cc3@edu.unibo.it
CREATED;VALUE=DATE-TIME:20240328T143007Z
DESCRIPTION:Convegno organizzato dal gruppo CREAN\, centro composto da ric
 ercatori\, docenti e dottorandi afferenti a vari Dipartimenti\, che si occ
 upano di diritti di bambini e adolescenti - Università di Bologna -
LAST-MODIFIED;VALUE=DATE-TIME:20240403T141506Z
URL:https://edu.unibo.it/it/eventi/children-s-rights-european-academic-net
 work
END:VEVENT
BEGIN:VTIMEZONE
TZID:Europe/Rome
X-LIC-LOCATION:Europe/Rome
BEGIN:DAYLIGHT
DTSTART;VALUE=DATE-TIME:20240331T030000
TZNAME:CEST
TZOFFSETFROM:+0100
TZOFFSETTO:+0200
END:DAYLIGHT
END:VTIMEZONE
END:VCALENDAR
